BEGIN:VCALENDAR
VERSION:2.0
PRODID:-//hacksw/handcal//NONSGML v1.0//EN
BEGIN:VEVENT
SUMMARY:Baisieux TT 10 / Wattrelos USSACL 4
UID:1932afb9-d3a7-4ab9-bf9a-8c4f3580a84c
DTSTART:20260412T073000Z
DTEND:20260412T100000Z
LOCATION:Localisation complexe sportif suzanne regnier, chemin d'ogimont 59780 baisieux
CATEGORIES:Sportif
STATUS:
URL;VALUE=URI:https://us-sacl-tt-wattrelos.sportsregions.fr/evenements/2026/04/12/baisieux-tt-10-wattrelos-ussacl-4-2408321
END:VEVENT
END:VCALENDAR
